Package: SGCP Version: 1.0.0 Command: rm -rf SGCP.buildbin-libdir && mkdir SGCP.buildbin-libdir && F:\biocbuild\bbs-3.17-bioc\R\bin\R.exe CMD INSTALL --build --library=SGCP.buildbin-libdir SGCP_1.0.0.tar.gz StartedAt: 2023-10-16 09:32:01 -0400 (Mon, 16 Oct 2023) EndedAt: 2023-10-16 09:33:05 -0400 (Mon, 16 Oct 2023) EllapsedTime: 64.2 seconds RetCode: 0 Status: OK PackageFile: SGCP_1.0.0.zip PackageFileSize: 1.481 MiB