Package: SGCP Version: 1.0.0 Command: rm -rf SGCP.buildbin-libdir && mkdir SGCP.buildbin-libdir && /Users/biocbuild/BBS/utils/build-universal.sh SGCP_1.0.0.tar.gz /Library/Frameworks/R.framework/Resources/bin/R SGCP.buildbin-libdir StartedAt: 2023-10-16 10:13:08 -0400 (Mon, 16 Oct 2023) EndedAt: 2023-10-16 10:15:48 -0400 (Mon, 16 Oct 2023) EllapsedTime: 160.7 seconds RetCode: 0 Status: OK PackageFile: SGCP_1.0.0.tgz PackageFileSize: 2.666 MiB