Package: SEtools Version: 1.14.0 Command: rm -rf SEtools.buildbin-libdir && mkdir SEtools.buildbin-libdir && F:\biocbuild\bbs-3.17-bioc\R\bin\R.exe CMD INSTALL --build --library=SEtools.buildbin-libdir SEtools_1.14.0.tar.gz StartedAt: 2023-10-16 09:31:57 -0400 (Mon, 16 Oct 2023) EndedAt: 2023-10-16 09:32:35 -0400 (Mon, 16 Oct 2023) EllapsedTime: 38.9 seconds RetCode: 0 Status: OK PackageFile: SEtools_1.14.0.zip PackageFileSize: 350.2 KiB