Package: SEtools Version: 1.14.0 Command: /home/biocbuild/bbs-3.17-bioc/R/bin/R CMD build --keep-empty-dirs --no-resave-data SEtools StartedAt: 2023-10-15 18:31:30 -0400 (Sun, 15 Oct 2023) EndedAt: 2023-10-15 18:32:17 -0400 (Sun, 15 Oct 2023) EllapsedTime: 47.1 seconds RetCode: 0 Status: OK PackageFile: SEtools_1.14.0.tar.gz PackageFileSize: 526.8 KiB