Package: SEtools Version: 1.14.0 Command: /Library/Frameworks/R.framework/Resources/bin/R CMD build --keep-empty-dirs --no-resave-data SEtools StartedAt: 2023-10-15 21:17:35 -0400 (Sun, 15 Oct 2023) EndedAt: 2023-10-15 21:19:56 -0400 (Sun, 15 Oct 2023) EllapsedTime: 141.3 seconds RetCode: 0 Status: OK PackageFile: SEtools_1.14.0.tar.gz PackageFileSize: 532.7 KiB