Package: SEPIRA Version: 1.20.0 Command: F:\biocbuild\bbs-3.17-bioc\R\bin\R.exe CMD INSTALL SEPIRA StartedAt: 2023-10-15 15:53:02 -0400 (Sun, 15 Oct 2023) EndedAt: 2023-10-15 15:53:13 -0400 (Sun, 15 Oct 2023) EllapsedTime: 11.5 seconds RetCode: 0 Status: OK