Package: SEPIRA Version: 1.20.0 Command: /home/biocbuild/bbs-3.17-bioc/R/bin/R CMD INSTALL SEPIRA StartedAt: 2023-10-15 15:10:11 -0400 (Sun, 15 Oct 2023) EndedAt: 2023-10-15 15:10:18 -0400 (Sun, 15 Oct 2023) EllapsedTime: 6.5 seconds RetCode: 0 Status: OK