Package: SEPIRA Version: 1.20.0 Command: /home/biocbuild/bbs-3.17-bioc/R/bin/R CMD check --install=check:SEPIRA.install-out.txt --library=/home/biocbuild/bbs-3.17-bioc/R/site-library --timings SEPIRA_1.20.0.tar.gz StartedAt: 2023-10-16 01:00:43 -0400 (Mon, 16 Oct 2023) EndedAt: 2023-10-16 01:01:08 -0400 (Mon, 16 Oct 2023) EllapsedTime: 25.6 seconds RetCode: 1 Status: ERROR CheckDir: SEPIRA.Rcheck Warnings: NA