Package: SEPIRA Version: 1.20.0 Command: /Library/Frameworks/R.framework/Resources/bin/R CMD check --install=check:SEPIRA.install-out.txt --library=/Library/Frameworks/R.framework/Resources/library --no-vignettes --timings SEPIRA_1.20.0.tar.gz StartedAt: 2023-10-16 06:57:32 -0400 (Mon, 16 Oct 2023) EndedAt: 2023-10-16 06:58:43 -0400 (Mon, 16 Oct 2023) EllapsedTime: 70.9 seconds RetCode: 0 Status: OK CheckDir: SEPIRA.Rcheck Warnings: 0