Package: SELEX Version: 1.32.0 Command: F:\biocbuild\bbs-3.17-bioc\R\bin\R.exe CMD INSTALL SELEX StartedAt: 2023-10-15 15:56:50 -0400 (Sun, 15 Oct 2023) EndedAt: 2023-10-15 15:57:06 -0400 (Sun, 15 Oct 2023) EllapsedTime: 16.3 seconds RetCode: 0 Status: OK