Package: SELEX Version: 1.32.0 Command: chmod a+r SELEX -R && F:\biocbuild\bbs-3.17-bioc\R\bin\R.exe CMD build --keep-empty-dirs --no-resave-data SELEX StartedAt: 2023-10-15 22:16:32 -0400 (Sun, 15 Oct 2023) EndedAt: 2023-10-15 22:17:05 -0400 (Sun, 15 Oct 2023) EllapsedTime: 33.1 seconds RetCode: 0 Status: OK PackageFile: SELEX_1.32.0.tar.gz PackageFileSize: 4.772 MiB