Package: SELEX Version: 1.32.0 Command: /Library/Frameworks/R.framework/Resources/bin/R CMD check --install=check:SELEX.install-out.txt --library=/Library/Frameworks/R.framework/Resources/library --no-vignettes --timings SELEX_1.32.0.tar.gz StartedAt: 2023-10-16 06:56:41 -0400 (Mon, 16 Oct 2023) EndedAt: 2023-10-16 07:01:11 -0400 (Mon, 16 Oct 2023) EllapsedTime: 269.8 seconds RetCode: 0 Status: OK CheckDir: SELEX.Rcheck Warnings: 0