Package: SELEX Version: 1.32.0 Command: /Library/Frameworks/R.framework/Resources/bin/R CMD build --keep-empty-dirs --no-resave-data SELEX StartedAt: 2023-10-15 21:14:06 -0400 (Sun, 15 Oct 2023) EndedAt: 2023-10-15 21:15:13 -0400 (Sun, 15 Oct 2023) EllapsedTime: 67.5 seconds RetCode: 0 Status: OK PackageFile: SELEX_1.32.0.tar.gz PackageFileSize: 4.034 MiB