Package: SELEX Version: 1.32.0 Command: rm -rf SELEX.buildbin-libdir && mkdir SELEX.buildbin-libdir && /Users/biocbuild/BBS/utils/build-universal.sh SELEX_1.32.0.tar.gz /Library/Frameworks/R.framework/Resources/bin/R SELEX.buildbin-libdir StartedAt: 2023-10-16 10:11:50 -0400 (Mon, 16 Oct 2023) EndedAt: 2023-10-16 10:12:32 -0400 (Mon, 16 Oct 2023) EllapsedTime: 42.0 seconds RetCode: 0 Status: OK PackageFile: SELEX_1.32.0.tgz PackageFileSize: 2.861 MiB