Package: SDAMS Version: 1.20.0 Command: F:\biocbuild\bbs-3.17-bioc\R\bin\R.exe CMD INSTALL SDAMS StartedAt: 2023-10-15 16:03:43 -0400 (Sun, 15 Oct 2023) EndedAt: 2023-10-15 16:04:07 -0400 (Sun, 15 Oct 2023) EllapsedTime: 23.8 seconds RetCode: 0 Status: OK