Package: SDAMS Version: 1.20.0 Command: chmod a+r SDAMS -R && F:\biocbuild\bbs-3.17-bioc\R\bin\R.exe CMD build --keep-empty-dirs --no-resave-data SDAMS StartedAt: 2023-10-15 22:15:51 -0400 (Sun, 15 Oct 2023) EndedAt: 2023-10-15 22:16:47 -0400 (Sun, 15 Oct 2023) EllapsedTime: 56.3 seconds RetCode: 0 Status: OK PackageFile: SDAMS_1.20.0.tar.gz PackageFileSize: 1.038 MiB