Package: SDAMS Version: 1.20.0 Command: rm -rf SDAMS.buildbin-libdir && mkdir SDAMS.buildbin-libdir && F:\biocbuild\bbs-3.17-bioc\R\bin\R.exe CMD INSTALL --build --library=SDAMS.buildbin-libdir SDAMS_1.20.0.tar.gz StartedAt: 2023-10-16 09:30:41 -0400 (Mon, 16 Oct 2023) EndedAt: 2023-10-16 09:31:05 -0400 (Mon, 16 Oct 2023) EllapsedTime: 24.8 seconds RetCode: 0 Status: OK PackageFile: SDAMS_1.20.0.zip PackageFileSize: 882.5 KiB