Package: SDAMS Version: 1.20.0 Command: /home/biocbuild/bbs-3.17-bioc/R/bin/R CMD check --install=check:SDAMS.install-out.txt --library=/home/biocbuild/bbs-3.17-bioc/R/site-library --timings SDAMS_1.20.0.tar.gz StartedAt: 2023-10-16 00:59:29 -0400 (Mon, 16 Oct 2023) EndedAt: 2023-10-16 01:02:57 -0400 (Mon, 16 Oct 2023) EllapsedTime: 207.5 seconds RetCode: 0 Status: OK CheckDir: SDAMS.Rcheck Warnings: 0