Package: SDAMS Version: 1.20.0 Command: /home/biocbuild/bbs-3.17-bioc/R/bin/R CMD build --keep-empty-dirs --no-resave-data SDAMS StartedAt: 2023-10-15 18:29:05 -0400 (Sun, 15 Oct 2023) EndedAt: 2023-10-15 18:29:46 -0400 (Sun, 15 Oct 2023) EllapsedTime: 41.2 seconds RetCode: 0 Status: OK PackageFile: SDAMS_1.20.0.tar.gz PackageFileSize: 1.037 MiB