Package: SDAMS Version: 1.20.0 Command: /Library/Frameworks/R.framework/Resources/bin/R CMD INSTALL SDAMS StartedAt: 2023-10-15 15:18:05 -0400 (Sun, 15 Oct 2023) EndedAt: 2023-10-15 15:19:29 -0400 (Sun, 15 Oct 2023) EllapsedTime: 84.5 seconds RetCode: 0 Status: OK