Package: SCnorm Version: 1.22.0 Command: /home/biocbuild/bbs-3.17-bioc/R/bin/R CMD check --install=check:SCnorm.install-out.txt --library=/home/biocbuild/bbs-3.17-bioc/R/site-library --timings SCnorm_1.22.0.tar.gz StartedAt: 2023-10-16 00:52:43 -0400 (Mon, 16 Oct 2023) EndedAt: 2023-10-16 00:56:46 -0400 (Mon, 16 Oct 2023) EllapsedTime: 243.6 seconds RetCode: 0 Status: OK CheckDir: SCnorm.Rcheck Warnings: 0