Package: SCnorm Version: 1.22.0 Command: /home/biocbuild/bbs-3.17-bioc/R/bin/R CMD build --keep-empty-dirs --no-resave-data SCnorm StartedAt: 2023-10-15 18:25:51 -0400 (Sun, 15 Oct 2023) EndedAt: 2023-10-15 18:27:38 -0400 (Sun, 15 Oct 2023) EllapsedTime: 107.4 seconds RetCode: 0 Status: OK PackageFile: SCnorm_1.22.0.tar.gz PackageFileSize: 2.974 MiB