Package: SCFA Version: 1.10.0 Command: F:\biocbuild\bbs-3.17-bioc\R\bin\R.exe CMD check --no-multiarch --install=check:SCFA.install-out.txt --library=F:\biocbuild\bbs-3.17-bioc\R\library --no-vignettes --timings SCFA_1.10.0.tar.gz StartedAt: 2023-10-16 06:28:47 -0400 (Mon, 16 Oct 2023) EndedAt: 2023-10-16 06:33:27 -0400 (Mon, 16 Oct 2023) EllapsedTime: 279.9 seconds RetCode: 0 Status: OK CheckDir: SCFA.Rcheck Warnings: 0