Package: SCFA Version: 1.10.0 Command: chmod a+r SCFA -R && F:\biocbuild\bbs-3.17-bioc\R\bin\R.exe CMD build --keep-empty-dirs --no-resave-data SCFA StartedAt: 2023-10-15 22:06:02 -0400 (Sun, 15 Oct 2023) EndedAt: 2023-10-15 22:09:02 -0400 (Sun, 15 Oct 2023) EllapsedTime: 180.2 seconds RetCode: 0 Status: OK PackageFile: SCFA_1.10.0.tar.gz PackageFileSize: 1.241 MiB