Package: SCFA Version: 1.10.0 Command: rm -rf SCFA.buildbin-libdir && mkdir SCFA.buildbin-libdir && F:\biocbuild\bbs-3.17-bioc\R\bin\R.exe CMD INSTALL --build --library=SCFA.buildbin-libdir SCFA_1.10.0.tar.gz StartedAt: 2023-10-16 09:29:17 -0400 (Mon, 16 Oct 2023) EndedAt: 2023-10-16 09:29:31 -0400 (Mon, 16 Oct 2023) EllapsedTime: 14.4 seconds RetCode: 0 Status: OK PackageFile: SCFA_1.10.0.zip PackageFileSize: 1.398 MiB