Package: SCFA Version: 1.10.0 Command: /home/biocbuild/bbs-3.17-bioc/R/bin/R CMD check --install=check:SCFA.install-out.txt --library=/home/biocbuild/bbs-3.17-bioc/R/site-library --timings SCFA_1.10.0.tar.gz StartedAt: 2023-10-16 00:49:06 -0400 (Mon, 16 Oct 2023) EndedAt: 2023-10-16 00:56:36 -0400 (Mon, 16 Oct 2023) EllapsedTime: 449.6 seconds RetCode: 0 Status: OK CheckDir: SCFA.Rcheck Warnings: 0