Package: SCFA Version: 1.10.0 Command: /home/biocbuild/bbs-3.17-bioc/R/bin/R CMD build --keep-empty-dirs --no-resave-data SCFA StartedAt: 2023-10-15 18:23:17 -0400 (Sun, 15 Oct 2023) EndedAt: 2023-10-15 18:26:08 -0400 (Sun, 15 Oct 2023) EllapsedTime: 171.3 seconds RetCode: 0 Status: OK PackageFile: SCFA_1.10.0.tar.gz PackageFileSize: 1.24 MiB