Package: SCFA Version: 1.10.0 Command: /Library/Frameworks/R.framework/Resources/bin/R CMD INSTALL SCFA StartedAt: 2023-10-15 15:59:22 -0400 (Sun, 15 Oct 2023) EndedAt: 2023-10-15 15:59:54 -0400 (Sun, 15 Oct 2023) EllapsedTime: 32.4 seconds RetCode: 0 Status: OK