Package: SCFA Version: 1.10.0 Command: /Library/Frameworks/R.framework/Resources/bin/R CMD check --install=check:SCFA.install-out.txt --library=/Library/Frameworks/R.framework/Resources/library --no-vignettes --timings SCFA_1.10.0.tar.gz StartedAt: 2023-10-16 06:42:22 -0400 (Mon, 16 Oct 2023) EndedAt: 2023-10-16 06:54:10 -0400 (Mon, 16 Oct 2023) EllapsedTime: 707.9 seconds RetCode: 0 Status: OK CheckDir: SCFA.Rcheck Warnings: 0