Package: SCFA Version: 1.10.0 Command: rm -rf SCFA.buildbin-libdir && mkdir SCFA.buildbin-libdir && /Users/biocbuild/BBS/utils/build-universal.sh SCFA_1.10.0.tar.gz /Library/Frameworks/R.framework/Resources/bin/R SCFA.buildbin-libdir StartedAt: 2023-10-16 10:09:38 -0400 (Mon, 16 Oct 2023) EndedAt: 2023-10-16 10:10:29 -0400 (Mon, 16 Oct 2023) EllapsedTime: 50.6 seconds RetCode: 0 Status: OK PackageFile: SCFA_1.10.0.tgz PackageFileSize: 1.394 MiB