Package: SCBN Version: 1.18.0 Command: rm -rf SCBN.buildbin-libdir && mkdir SCBN.buildbin-libdir && F:\biocbuild\bbs-3.17-bioc\R\bin\R.exe CMD INSTALL --build --library=SCBN.buildbin-libdir SCBN_1.18.0.tar.gz StartedAt: 2023-10-16 09:28:44 -0400 (Mon, 16 Oct 2023) EndedAt: 2023-10-16 09:28:51 -0400 (Mon, 16 Oct 2023) EllapsedTime: 7.9 seconds RetCode: 0 Status: OK PackageFile: SCBN_1.18.0.zip PackageFileSize: 694.4 KiB