Package: SCBN Version: 1.18.0 Command: /home/biocbuild/bbs-3.17-bioc/R/bin/R CMD build --keep-empty-dirs --no-resave-data SCBN StartedAt: 2023-10-15 18:22:18 -0400 (Sun, 15 Oct 2023) EndedAt: 2023-10-15 18:23:16 -0400 (Sun, 15 Oct 2023) EllapsedTime: 58.0 seconds RetCode: 0 Status: OK PackageFile: SCBN_1.18.0.tar.gz PackageFileSize: 516.3 KiB