Package: SCBN Version: 1.18.0 Command: /Library/Frameworks/R.framework/Resources/bin/R CMD INSTALL SCBN StartedAt: 2023-10-15 15:03:45 -0400 (Sun, 15 Oct 2023) EndedAt: 2023-10-15 15:04:08 -0400 (Sun, 15 Oct 2023) EllapsedTime: 22.7 seconds RetCode: 0 Status: OK