Package: SCBN Version: 1.18.0 Command: /Library/Frameworks/R.framework/Resources/bin/R CMD check --install=check:SCBN.install-out.txt --library=/Library/Frameworks/R.framework/Resources/library --no-vignettes --timings SCBN_1.18.0.tar.gz StartedAt: 2023-10-16 06:38:06 -0400 (Mon, 16 Oct 2023) EndedAt: 2023-10-16 06:43:42 -0400 (Mon, 16 Oct 2023) EllapsedTime: 336.2 seconds RetCode: 0 Status: OK CheckDir: SCBN.Rcheck Warnings: 0