Package: SCBN Version: 1.18.0 Command: /Library/Frameworks/R.framework/Resources/bin/R CMD build --keep-empty-dirs --no-resave-data SCBN StartedAt: 2023-10-15 20:58:33 -0400 (Sun, 15 Oct 2023) EndedAt: 2023-10-15 21:01:40 -0400 (Sun, 15 Oct 2023) EllapsedTime: 186.7 seconds RetCode: 0 Status: OK PackageFile: SCBN_1.18.0.tar.gz PackageFileSize: 516.3 KiB