Package: SCBN Version: 1.18.0 Command: rm -rf SCBN.buildbin-libdir && mkdir SCBN.buildbin-libdir && /Users/biocbuild/BBS/utils/build-universal.sh SCBN_1.18.0.tar.gz /Library/Frameworks/R.framework/Resources/bin/R SCBN.buildbin-libdir StartedAt: 2023-10-16 10:09:05 -0400 (Mon, 16 Oct 2023) EndedAt: 2023-10-16 10:09:12 -0400 (Mon, 16 Oct 2023) EllapsedTime: 7.4 seconds RetCode: 0 Status: OK PackageFile: SCBN_1.18.0.tgz PackageFileSize: 691.7 KiB