Package: SCArray.sat Version: 1.0.3 Command: F:\biocbuild\bbs-3.17-bioc\R\bin\R.exe CMD INSTALL SCArray.sat StartedAt: 2023-10-15 16:51:17 -0400 (Sun, 15 Oct 2023) EndedAt: 2023-10-15 16:52:03 -0400 (Sun, 15 Oct 2023) EllapsedTime: 45.8 seconds RetCode: 0 Status: OK