Package: SCArray.sat Version: 1.0.3 Command: chmod a+r SCArray.sat -R && F:\biocbuild\bbs-3.17-bioc\R\bin\R.exe CMD build --keep-empty-dirs --no-resave-data SCArray.sat StartedAt: 2023-10-15 22:03:02 -0400 (Sun, 15 Oct 2023) EndedAt: 2023-10-15 22:04:28 -0400 (Sun, 15 Oct 2023) EllapsedTime: 85.6 seconds RetCode: 0 Status: OK PackageFile: SCArray.sat_1.0.3.tar.gz PackageFileSize: 397.9 KiB