Package: SCArray.sat Version: 1.0.3 Command: rm -rf SCArray.sat.buildbin-libdir && mkdir SCArray.sat.buildbin-libdir && F:\biocbuild\bbs-3.17-bioc\R\bin\R.exe CMD INSTALL --build --library=SCArray.sat.buildbin-libdir SCArray.sat_1.0.3.tar.gz StartedAt: 2023-10-16 09:28:32 -0400 (Mon, 16 Oct 2023) EndedAt: 2023-10-16 09:29:21 -0400 (Mon, 16 Oct 2023) EllapsedTime: 49.8 seconds RetCode: 0 Status: OK PackageFile: SCArray.sat_1.0.3.zip PackageFileSize: 517.5 KiB