Package: SCArray.sat Version: 1.0.3 Command: /home/biocbuild/bbs-3.17-bioc/R/bin/R CMD check --install=check:SCArray.sat.install-out.txt --library=/home/biocbuild/bbs-3.17-bioc/R/site-library --timings SCArray.sat_1.0.3.tar.gz StartedAt: 2023-10-16 00:45:29 -0400 (Mon, 16 Oct 2023) EndedAt: 2023-10-16 00:51:02 -0400 (Mon, 16 Oct 2023) EllapsedTime: 333.2 seconds RetCode: 0 Status: OK CheckDir: SCArray.sat.Rcheck Warnings: 0