Package: SCArray.sat Version: 1.0.3 Command: /home/biocbuild/bbs-3.17-bioc/R/bin/R CMD build --keep-empty-dirs --no-resave-data SCArray.sat StartedAt: 2023-10-15 18:21:48 -0400 (Sun, 15 Oct 2023) EndedAt: 2023-10-15 18:23:07 -0400 (Sun, 15 Oct 2023) EllapsedTime: 78.9 seconds RetCode: 0 Status: OK PackageFile: SCArray.sat_1.0.3.tar.gz PackageFileSize: 646.3 KiB