Package: SCArray.sat Version: 1.0.3 Command: /Library/Frameworks/R.framework/Resources/bin/R CMD check --install=check:SCArray.sat.install-out.txt --library=/Library/Frameworks/R.framework/Resources/library --no-vignettes --timings SCArray.sat_1.0.3.tar.gz StartedAt: 2023-10-16 06:36:59 -0400 (Mon, 16 Oct 2023) EndedAt: 2023-10-16 06:48:07 -0400 (Mon, 16 Oct 2023) EllapsedTime: 668.1 seconds RetCode: 0 Status: OK CheckDir: SCArray.sat.Rcheck Warnings: 0