Package: SCArray.sat Version: 1.0.3 Command: rm -rf SCArray.sat.buildbin-libdir && mkdir SCArray.sat.buildbin-libdir && /Users/biocbuild/BBS/utils/build-universal.sh SCArray.sat_1.0.3.tar.gz /Library/Frameworks/R.framework/Resources/bin/R SCArray.sat.buildbin-libdir StartedAt: 2023-10-16 10:08:53 -0400 (Mon, 16 Oct 2023) EndedAt: 2023-10-16 10:10:47 -0400 (Mon, 16 Oct 2023) EllapsedTime: 113.5 seconds RetCode: 0 Status: OK PackageFile: SCArray.sat_1.0.3.tgz PackageFileSize: 768.9 KiB