Package: SCATE Version: 1.10.0 Command: chmod a+r SCATE -R && F:\biocbuild\bbs-3.17-bioc\R\bin\R.exe CMD build --keep-empty-dirs --no-resave-data SCATE StartedAt: 2023-10-15 22:03:03 -0400 (Sun, 15 Oct 2023) EndedAt: 2023-10-15 22:24:54 -0400 (Sun, 15 Oct 2023) EllapsedTime: 1310.6 seconds RetCode: 0 Status: OK PackageFile: SCATE_1.10.0.tar.gz PackageFileSize: 491.1 KiB