Package: SCATE Version: 1.10.0 Command: rm -rf SCATE.buildbin-libdir && mkdir SCATE.buildbin-libdir && F:\biocbuild\bbs-3.17-bioc\R\bin\R.exe CMD INSTALL --build --library=SCATE.buildbin-libdir SCATE_1.10.0.tar.gz StartedAt: 2023-10-16 09:28:33 -0400 (Mon, 16 Oct 2023) EndedAt: 2023-10-16 09:29:20 -0400 (Mon, 16 Oct 2023) EllapsedTime: 46.6 seconds RetCode: 0 Status: OK PackageFile: SCATE_1.10.0.zip PackageFileSize: 311.9 KiB