Package: SCATE Version: 1.10.0 Command: /home/biocbuild/bbs-3.17-bioc/R/bin/R CMD INSTALL SCATE StartedAt: 2023-10-15 15:50:19 -0400 (Sun, 15 Oct 2023) EndedAt: 2023-10-15 15:51:00 -0400 (Sun, 15 Oct 2023) EllapsedTime: 41.4 seconds RetCode: 0 Status: OK