Package: SCATE Version: 1.10.0 Command: /home/biocbuild/bbs-3.17-bioc/R/bin/R CMD check --install=check:SCATE.install-out.txt --library=/home/biocbuild/bbs-3.17-bioc/R/site-library --timings SCATE_1.10.0.tar.gz StartedAt: 2023-10-16 00:45:29 -0400 (Mon, 16 Oct 2023) EndedAt: 2023-10-16 00:53:55 -0400 (Mon, 16 Oct 2023) EllapsedTime: 505.7 seconds RetCode: 1 Status: ERROR CheckDir: SCATE.Rcheck Warnings: NA