Package: SCATE Version: 1.10.0 Command: /home/biocbuild/bbs-3.17-bioc/R/bin/R CMD build --keep-empty-dirs --no-resave-data SCATE StartedAt: 2023-10-15 18:21:55 -0400 (Sun, 15 Oct 2023) EndedAt: 2023-10-15 18:37:32 -0400 (Sun, 15 Oct 2023) EllapsedTime: 936.6 seconds RetCode: 0 Status: OK PackageFile: SCATE_1.10.0.tar.gz PackageFileSize: 507.5 KiB