Package: SCATE Version: 1.10.0 Command: /Library/Frameworks/R.framework/Resources/bin/R CMD INSTALL SCATE StartedAt: 2023-10-15 16:33:19 -0400 (Sun, 15 Oct 2023) EndedAt: 2023-10-15 16:35:17 -0400 (Sun, 15 Oct 2023) EllapsedTime: 118.4 seconds RetCode: 0 Status: OK