Package: SCATE Version: 1.10.0 Command: /Library/Frameworks/R.framework/Resources/bin/R CMD build --keep-empty-dirs --no-resave-data SCATE StartedAt: 2023-10-15 20:57:59 -0400 (Sun, 15 Oct 2023) EndedAt: 2023-10-15 21:37:59 -0400 (Sun, 15 Oct 2023) EllapsedTime: 2400.0 seconds RetCode: None Status: TIMEOUT PackageFile: None PackageFileSize: NA